BEGIN:VCALENDAR
VERSION:2.0
PRODID:-//Erfgoed Alkmaar - ECPv5.16.4.1//NONSGML v1.0//EN
CALSCALE:GREGORIAN
METHOD:PUBLISH
X-WR-CALNAME:Erfgoed Alkmaar
X-ORIGINAL-URL:https://www.erfgoedalkmaar.nl
X-WR-CALDESC:Evenementen voor Erfgoed Alkmaar
BEGIN:VTIMEZONE
TZID:Europe/Amsterdam
BEGIN:DAYLIGHT
TZOFFSETFROM:+0100
TZOFFSETTO:+0200
TZNAME:CEST
DTSTART:20250330T010000
END:DAYLIGHT
BEGIN:STANDARD
TZOFFSETFROM:+0200
TZOFFSETTO:+0100
TZNAME:CET
DTSTART:20251026T010000
END:STANDARD
END:VTIMEZONE
BEGIN:VEVENT
DTSTART;TZID=Europe/Amsterdam:20250706T110000
DTEND;TZID=Europe/Amsterdam:20250831T150000
DTSTAMP:20260425T024828
CREATED:20250703T143536Z
LAST-MODIFIED:20250726T113601Z
UID:32302-1751799600-1756652400@www.erfgoedalkmaar.nl
SUMMARY:(t/m 31 aug) Elke zondag: Beklim de toren van Grote Kerk Schermerhorn
DESCRIPTION:Van zee tot IJsselmeer\nGeniet van een uitzicht vanaf een hoogte van 34 meter! Hiervoor moet je wel eerst 133 treden beklimmen. De toren is voorzien van nieuwe trappen die voldoen aan de veiligheidseisen van nu. We hebben een aantal vrijwilligers opgeleid om de beklimming te begeleiden. \nHet beklimmen van de toren is op eigen risico. Het is handig om stevig schoeisel te dragen. Er mogen geen tassen mee naar boven\, deze worden in bewaring gegeven. Voorafgaand aan de klim krijg je koffie of thee met appeltaart. Terwijl je daarvan geniet krijg je een veiligheidsvideo te zien. \nDe maximale groepsgrootte is 6 personen\, er gaan dan ook nog 2 begeleiders mee naar boven. De klim begint als de klok slaat\, dan kun je een half uur van het uitzicht genieten\, daarna gaan we terug naar beneden. Zo omzeilen we precies het luiden van de klokken als we boven staan en beschermen we je gehoor! \nTicket reserveren €12\,50 pp incl koffie/thee met appeltaart\nDe data voor de beklimmingen 6\, 20 en 27 juli en 3\, 10\, 24 en 31 augustus\nDrie tijdsloten 11.15\, 12.45 en 14.15 uur \n 
URL:https://www.erfgoedalkmaar.nl/evenement/beklim-toren-van-grote-kerk-schermerhorn-op-zondagen-in-juli-en-augustus/
LOCATION:Grote Kerk Schermerhorn\, Oosteinde 2\, Schermerhorn\, 1636 XV
ATTACH;FMTTYPE=image/png:https://www.erfgoedalkmaar.nl/wp-content/uploads/sites/3/2025/07/2-h9JQyM.tmp_.png
END:VEVENT
END:VCALENDAR