BEGIN:VCALENDAR
VERSION:2.0
PRODID:-//Erfgoed Alkmaar - ECPv5.16.4.1//NONSGML v1.0//EN
CALSCALE:GREGORIAN
METHOD:PUBLISH
X-WR-CALNAME:Erfgoed Alkmaar
X-ORIGINAL-URL:https://www.erfgoedalkmaar.nl
X-WR-CALDESC:Evenementen voor Erfgoed Alkmaar
BEGIN:VTIMEZONE
TZID:Europe/Amsterdam
BEGIN:DAYLIGHT
TZOFFSETFROM:+0100
TZOFFSETTO:+0200
TZNAME:CEST
DTSTART:20250330T010000
END:DAYLIGHT
BEGIN:STANDARD
TZOFFSETFROM:+0200
TZOFFSETTO:+0100
TZNAME:CET
DTSTART:20251026T010000
END:STANDARD
END:VTIMEZONE
BEGIN:VEVENT
DTSTART;TZID=Europe/Amsterdam:20250417T080000
DTEND;TZID=Europe/Amsterdam:20250914T170000
DTSTAMP:20260425T025610
CREATED:20250522T122300Z
LAST-MODIFIED:20250522T130155Z
UID:31015-1744876800-1757869200@www.erfgoedalkmaar.nl
SUMMARY:(hele zomer) Evenementen Leeghwater 450 jaar
DESCRIPTION:Dit jaar is het 450 jaar geleden dat Jan Adriaenszn Leeghwater werd geboren in De Rijp. Reden voor een feestjaar. Deze hele zomer zijn er allerlei festiviteiten in het Land van Leeghwater. Het gebied waarop deze molenbouwer en waterbouwkundige nadrukkelijk zijn stempel heeft gezet.  \nHet verhaal van Leeghwater is het verhaal over een man van eenvoudige komaf\, een doorzetter\, een fantast\, een visionair en vooral iemand die het aandurfde de elementen te trotseren. Een man die werd bewonderd en vereerd\, maar ook werd beschimpt en met argwaan bekeken. \nTijdens het jubileumjaar Leeghwater 450 schetsen we aan de hand van een aantal thema’s een beeld van de man die een belangrijke rol speelde bij de totstandkoming van het gebied rond de steden Alkmaar en Purmerend. \nEn we vieren zijn leven met exposities\, theater\, zang en dans\, wandel-\, fiets- en vaartochten\, markten en een daverende slotmanifestatie in zijn geboortedorp De Rijp.\nEn op Open Monumentendag\, dit jaar op zondag 14 september in het Land van Leeghwater\, doen we het nog eens dunnetjes over. Ook dan besteden we aandacht aan dit jubileum. \nGa naar de speciale jubileumwebsite met een overzicht van alle activiteiten
URL:https://www.erfgoedalkmaar.nl/evenement/evenementen-leeghwater-450-jaar/
ATTACH;FMTTYPE=image/jpeg:https://www.erfgoedalkmaar.nl/wp-content/uploads/sites/3/2025/05/Leeghwater-450-algemene-afbeelding.jpg
END:VEVENT
END:VCALENDAR