BEGIN:VCALENDAR
VERSION:2.0
PRODID:-//Erfgoed Alkmaar - ECPv5.16.4.1//NONSGML v1.0//EN
CALSCALE:GREGORIAN
METHOD:PUBLISH
X-WR-CALNAME:Erfgoed Alkmaar
X-ORIGINAL-URL:https://www.erfgoedalkmaar.nl
X-WR-CALDESC:Evenementen voor Erfgoed Alkmaar
BEGIN:VTIMEZONE
TZID:Europe/Amsterdam
BEGIN:DAYLIGHT
TZOFFSETFROM:+0100
TZOFFSETTO:+0200
TZNAME:CEST
DTSTART:20250330T010000
END:DAYLIGHT
BEGIN:STANDARD
TZOFFSETFROM:+0200
TZOFFSETTO:+0100
TZNAME:CET
DTSTART:20251026T010000
END:STANDARD
BEGIN:DAYLIGHT
TZOFFSETFROM:+0100
TZOFFSETTO:+0200
TZNAME:CEST
DTSTART:20260329T010000
END:DAYLIGHT
BEGIN:STANDARD
TZOFFSETFROM:+0200
TZOFFSETTO:+0100
TZNAME:CET
DTSTART:20261025T010000
END:STANDARD
END:VTIMEZONE
BEGIN:VEVENT
DTSTART;TZID=Europe/Amsterdam:20250127T080000
DTEND;TZID=Europe/Amsterdam:20260127T170000
DTSTAMP:20260425T025656
CREATED:20240523T154047Z
LAST-MODIFIED:20250127T160740Z
UID:20261-1737964800-1769533200@www.erfgoedalkmaar.nl
SUMMARY:Het hele jaar door: wandelen en fietsen in en om Alkmaar
DESCRIPTION:Tijdens het wandelen of fietsen heb je net iets meer tijd om om je heen te kijken en bijvoorbeeld historische details te zien waar je anders voorbij zou lopen. Wist je dat er heel veel leuke wandel- en fietsroutes in en om Alkmaar beschikbaar zijn? Routes vanaf een uur tot zelfs een hele dag in de binnenstad\, Graft\, Schermer of De Rijp. \nWij hebben twee pagina’s vol met tips voor jou! \nWandelroutes in en om Alkmaar \nFietsroutes in en om Alkmaar
URL:https://www.erfgoedalkmaar.nl/evenement/het-hele-jaar-door-wandelen-en-fietsen-in-en-om-alkmaar/
ATTACH;FMTTYPE=image/jpeg:https://www.erfgoedalkmaar.nl/wp-content/uploads/sites/3/2024/03/web-wandel-en-fietsroutes-Alkmaar.jpg
END:VEVENT
END:VCALENDAR