BEGIN:VCALENDAR
VERSION:2.0
PRODID:-//Erfgoed Alkmaar - ECPv5.16.4.1//NONSGML v1.0//EN
CALSCALE:GREGORIAN
METHOD:PUBLISH
X-WR-CALNAME:Erfgoed Alkmaar
X-ORIGINAL-URL:https://www.erfgoedalkmaar.nl
X-WR-CALDESC:Evenementen voor Erfgoed Alkmaar
BEGIN:VTIMEZONE
TZID:Europe/Amsterdam
BEGIN:DAYLIGHT
TZOFFSETFROM:+0100
TZOFFSETTO:+0200
TZNAME:CEST
DTSTART:20260329T010000
END:DAYLIGHT
BEGIN:STANDARD
TZOFFSETFROM:+0200
TZOFFSETTO:+0100
TZNAME:CET
DTSTART:20261025T010000
END:STANDARD
END:VTIMEZONE
BEGIN:VEVENT
DTSTART;TZID=Europe/Amsterdam:20260428T140000
DTEND;TZID=Europe/Amsterdam:20260428T160000
DTSTAMP:20260424T235344
CREATED:20241215T184635Z
LAST-MODIFIED:20260110T154328Z
UID:26537-1777384800-1777392000@www.erfgoedalkmaar.nl
SUMMARY:Lezing Van Honthorst in de Kunstkerk
DESCRIPTION:Door Isolde Scholberg\nGerard Hermansz. van Honthorst (Utrecht – 1592-1656) was een Nederlands schilder\, een van de meest begaafde volgelingen van Caravaggio. Hij wordt gerekend tot de Utrechtse caravaggisten. Hij was een van de weinige schilders met een internationale faam. Zijn grote voorbeeld was Antoon van Dyck. \nLeven\nGerard van Honthorst was de zoon van een decoratieschilder en kreeg zijn opleiding van zijn vader en van Abraham Bloemaert. Hij reisde vervolgens naar Italië\, waar hij vanaf 1616 vermeld wordt in Venetië\, Florence en Rome. Gerard van Honthorst kwam in contact met Guido Reni. Samen oogstten zij veel succes met hun werk en vonden een belangrijke beschermheer in de persoon van Vincenzo Giustiniani en diens broer Benedetto. Zij woonden een tijdlang in hun paleis en konden zodoende de weergaloze kunstcollectie\, waaronder veel werken van Caravaggio\, bestuderen. \nTicket € 15\,00 incl. koffie of thee in de pauze
URL:https://www.erfgoedalkmaar.nl/evenement/lezing-de-enige-chineze-keizerin-wu-zetian/
LOCATION:Kunstkerk Dijk en Waard\, Kerkplein 1\, Sint Pancras\, 1834 AD
ATTACH;FMTTYPE=image/jpeg:https://www.erfgoedalkmaar.nl/wp-content/uploads/sites/3/2024/12/Gerrit_van_Honthorst_-_De_koppelaarster.jpeg
END:VEVENT
END:VCALENDAR