BEGIN:VCALENDAR
VERSION:2.0
PRODID:-//Erfgoed Alkmaar - ECPv5.16.4.1//NONSGML v1.0//EN
CALSCALE:GREGORIAN
METHOD:PUBLISH
X-WR-CALNAME:Erfgoed Alkmaar
X-ORIGINAL-URL:https://www.erfgoedalkmaar.nl
X-WR-CALDESC:Evenementen voor Erfgoed Alkmaar
BEGIN:VTIMEZONE
TZID:Europe/Amsterdam
BEGIN:DAYLIGHT
TZOFFSETFROM:+0100
TZOFFSETTO:+0200
TZNAME:CEST
DTSTART:20260329T010000
END:DAYLIGHT
BEGIN:STANDARD
TZOFFSETFROM:+0200
TZOFFSETTO:+0100
TZNAME:CET
DTSTART:20261025T010000
END:STANDARD
END:VTIMEZONE
BEGIN:VEVENT
DTSTART;TZID=Europe/Amsterdam:20260325T100000
DTEND;TZID=Europe/Amsterdam:20260325T120000
DTSTAMP:20260425T011945
CREATED:20260110T152539Z
LAST-MODIFIED:20260110T152539Z
UID:38158-1774432800-1774440000@www.erfgoedalkmaar.nl
SUMMARY:Lezing Jan Toorop in de Kunstkerk
DESCRIPTION:Tekenaar van ‘grillige aantrekkelijkheden’\nDoor Martijn Pieters \nJan Toorop is een nationaal en internationaal bekend kunstenaar\, die tot de speerpunt van de Hollandse avant-garde behoorde. Hij was op de hoogte van nieuwe ontwikkelingen in het buitenland\, die hij zich ook eigen zou maken. Hij exposeerde in binnen- en buitenland\, waardoor zijn werk goed verkocht aan rijke particulieren. Hoewel hij voor het grote publiek altijd verbonden zal blijven met de Hollandse ‘sla-oliestijl’ is hij veel veelzijdiger: Naturalisme\, Realisme\, Impressionisme\, Pointillisme\, Symbolisme\, maar ook heel gedetailleerde portretten\, hij beheerste het allemaal. Ook de thematiek in zijn schilder- en tekenkunst is zeer divers: van vissers in Katwijk\, mysterieuze voorstellingen in het Symbolisme tot traditionele katholieke voorstellingen na zijn bekering. Als voorbeeld van dit laatste gelden de Kruiswegstaties\, die hij maakte voor de kerk in Oosterbeek en welke op de tentoonstelling te zien zullen zijn.\nHet Singer Museum in Laren wijdt een grote overzichtstentoonstelling aan de kunstenaar en zijn werk. Vele bruiklenen\, ook van tijdgenoten\, uit internationale en nationale publieke en particuliere collecties worden bijeengebracht en zullen een prachtig overzicht geven van het scheppen van een belangrijk kunstenaar uit de Nederlandse kunstgeschiedenis\, die zijn invloed ook buiten de landsgrenzen deed gelden. \n€ 15\,- inclusief koffie of thee in de pauze \nTentoonstelling ‘De werelden van Jan Toorop. ​Singer museum’\, Laren. 21 januari t/m 10 mei
URL:https://www.erfgoedalkmaar.nl/evenement/lezing-jan-toorop-in-de-kunstkerk/
LOCATION:Kunstkerk Dijk en Waard\, Kerkplein 1\, Sint Pancras\, 1834 AD
ATTACH;FMTTYPE=image/jpeg:https://www.erfgoedalkmaar.nl/wp-content/uploads/sites/3/2026/01/Jan-Toorop.jpeg
END:VEVENT
END:VCALENDAR