BEGIN:VCALENDAR
VERSION:2.0
PRODID:-//Erfgoed Alkmaar - ECPv5.16.4.1//NONSGML v1.0//EN
CALSCALE:GREGORIAN
METHOD:PUBLISH
X-WR-CALNAME:Erfgoed Alkmaar
X-ORIGINAL-URL:https://www.erfgoedalkmaar.nl
X-WR-CALDESC:Evenementen voor Erfgoed Alkmaar
BEGIN:VTIMEZONE
TZID:Europe/Amsterdam
BEGIN:DAYLIGHT
TZOFFSETFROM:+0100
TZOFFSETTO:+0200
TZNAME:CEST
DTSTART:20260329T010000
END:DAYLIGHT
BEGIN:STANDARD
TZOFFSETFROM:+0200
TZOFFSETTO:+0100
TZNAME:CET
DTSTART:20261025T010000
END:STANDARD
END:VTIMEZONE
BEGIN:VEVENT
DTSTART;TZID=Europe/Amsterdam:20260318T100000
DTEND;TZID=Europe/Amsterdam:20260318T120000
DTSTAMP:20260425T011615
CREATED:20251028T120252Z
LAST-MODIFIED:20260110T152022Z
UID:37155-1773828000-1773835200@www.erfgoedalkmaar.nl
SUMMARY:Lezing De Meester van Alkmaar in de Kunstkerk
DESCRIPTION:En de laatmiddeleeuwse schilderkunst in Haarlem\nDoor Martijn Pieters \nVorig jaar kocht het Stedelijk Museum met steun van diverse instanties twee kleine laatmiddeleeuwse paneeltjes aan\, die worden toegekend aan de zogenaamde ‘Meester van Alkmaar’. Wie deze schilder is en of hij daadwerkelijk in de stad Alkmaar zelf werkzaam was blijft vooralsnog onduidelijk. Wel heeft een van zijn belangrijkste werken ‘De zeven werken van Barmhartigheid’\, nu in het Rijksmuseum\, tot in de vroege 20ste eeuw in de Grote Kerk van Alkmaar gehangen. In ieder geval behoort zijn kleine oeuvre tot de laatmiddeleeuwse schilderkunst uit het graafschap Holland\, waar Haarlem een prominente plek in neemt. \n€ 15\,- inclusief koffie of thee in de pauze
URL:https://www.erfgoedalkmaar.nl/evenement/lezing-the-grand-tour-in-de-kunstkerk/
LOCATION:Kunstkerk Dijk en Waard\, Kerkplein 1\, Sint Pancras\, 1834 AD
ATTACH;FMTTYPE=image/jpeg:https://www.erfgoedalkmaar.nl/wp-content/uploads/sites/3/2025/10/Meester-van-Alkmaar.jpeg
END:VEVENT
END:VCALENDAR