BEGIN:VCALENDAR
VERSION:2.0
PRODID:-//Erfgoed Alkmaar - ECPv5.16.4.1//NONSGML v1.0//EN
CALSCALE:GREGORIAN
METHOD:PUBLISH
X-WR-CALNAME:Erfgoed Alkmaar
X-ORIGINAL-URL:https://www.erfgoedalkmaar.nl
X-WR-CALDESC:Evenementen voor Erfgoed Alkmaar
BEGIN:VTIMEZONE
TZID:Europe/Amsterdam
BEGIN:DAYLIGHT
TZOFFSETFROM:+0100
TZOFFSETTO:+0200
TZNAME:CEST
DTSTART:20260329T010000
END:DAYLIGHT
BEGIN:STANDARD
TZOFFSETFROM:+0200
TZOFFSETTO:+0100
TZNAME:CET
DTSTART:20261025T010000
END:STANDARD
END:VTIMEZONE
BEGIN:VEVENT
DTSTART;TZID=Europe/Amsterdam:20260913T130000
DTEND;TZID=Europe/Amsterdam:20260913T190000
DTSTAMP:20260424T235806
CREATED:20230619T093942Z
LAST-MODIFIED:20251210T194739Z
UID:15872-1789304400-1789326000@www.erfgoedalkmaar.nl
SUMMARY:Open Monumentendag 2026 in Schermer\, Graft en De Rijp
DESCRIPTION:Het landelijke thema is ‘Erfgoed in gevaar’\nZONDAG\nHet Open Monumentendagweekend is dit jaar op 12 en 13 september. In de gemeente Alkmaar ligt dan op zaterdag 12 september de nadruk op de binnenstad\, Oudorp en Koedijk. En op zondag 13 september zijn de monumenten open in Schermer\, Graft & De Rijp. Zo kun je een heel weekend genieten van monumenten in de hele gemeente Alkmaar. \nOpen Monumentendag in Alkmaar is op zaterdag van 10.00 tot 17.00 uur in Alkmaar en Oudorp en op zondag van 11.00 tot 17.00 uur in Schermer\, Graft en de Rijp. \nOp de Open Monumentendagpagina vind je vanaf juni de meest actuele informatie. Zodat je alvast weet wat je kunt verwachten aan superleuke activiteiten en kunt bekijken welke monumenten er geopend zijn dit jaar.
URL:https://www.erfgoedalkmaar.nl/evenement/open-monumentendag-2026-schermer-en-de-rijp/
LOCATION:Alkmaar\, Alkmaar
CATEGORIES:Open monumentendag
ATTACH;FMTTYPE=image/jpeg:https://www.erfgoedalkmaar.nl/wp-content/uploads/sites/3/2025/01/s-OMD-beeld-2025-algemeen-site.jpg
END:VEVENT
END:VCALENDAR