BEGIN:VCALENDAR
VERSION:2.0
PRODID:-//Erfgoed Alkmaar - ECPv5.16.4.1//NONSGML v1.0//EN
CALSCALE:GREGORIAN
METHOD:PUBLISH
X-WR-CALNAME:Erfgoed Alkmaar
X-ORIGINAL-URL:https://www.erfgoedalkmaar.nl
X-WR-CALDESC:Evenementen voor Erfgoed Alkmaar
BEGIN:VTIMEZONE
TZID:Europe/Amsterdam
BEGIN:DAYLIGHT
TZOFFSETFROM:+0100
TZOFFSETTO:+0200
TZNAME:CEST
DTSTART:20260329T010000
END:DAYLIGHT
BEGIN:STANDARD
TZOFFSETFROM:+0200
TZOFFSETTO:+0100
TZNAME:CET
DTSTART:20261025T010000
END:STANDARD
END:VTIMEZONE
BEGIN:VEVENT
DTSTART;TZID=Europe/Amsterdam:20260328T163000
DTEND;TZID=Europe/Amsterdam:20260328T173000
DTSTAMP:20260425T012648
CREATED:20251015T112052Z
LAST-MODIFIED:20251015T112052Z
UID:37001-1774715400-1774719000@www.erfgoedalkmaar.nl
SUMMARY:Rondom Bach in Grote Kerk Alkmaar
DESCRIPTION:Hanneke de Wit\, sopraan & Pieter van Dijk\, orgel\nOp een aantal zaterdagen wordt in de Grote Kerk Alkmaar een gratis toegankelijk concert in de serie ‘Rondom Bach’ geprogrammeerd. De serie is samengesteld door stadsorganist Pieter van Dijk. Het biedt luisterrijke concerten op de zaterdagmiddag met orgelmuziek\, vaak aangevuld met andere instrumenten.
URL:https://www.erfgoedalkmaar.nl/evenement/rondom-bach-in-grote-kerk-alkmaar-3/
LOCATION:Grote Sint Laurenskerk\, Koorstraat 2\, Alkmaar\, Noord-Holland\, 1811 GP\, Nederland
ATTACH;FMTTYPE=image/png:https://www.erfgoedalkmaar.nl/wp-content/uploads/sites/3/2025/10/Hanneke-de-Wit.png
END:VEVENT
END:VCALENDAR