BEGIN:VCALENDAR
VERSION:2.0
PRODID:-//Erfgoed Alkmaar - ECPv5.16.4.1//NONSGML v1.0//EN
CALSCALE:GREGORIAN
METHOD:PUBLISH
X-WR-CALNAME:Erfgoed Alkmaar
X-ORIGINAL-URL:https://www.erfgoedalkmaar.nl
X-WR-CALDESC:Evenementen voor Erfgoed Alkmaar
BEGIN:VTIMEZONE
TZID:Europe/Amsterdam
BEGIN:DAYLIGHT
TZOFFSETFROM:+0100
TZOFFSETTO:+0200
TZNAME:CEST
DTSTART:20260329T010000
END:DAYLIGHT
BEGIN:STANDARD
TZOFFSETFROM:+0200
TZOFFSETTO:+0100
TZNAME:CET
DTSTART:20261025T010000
END:STANDARD
END:VTIMEZONE
BEGIN:VEVENT
DTSTART;TZID=Europe/Amsterdam:20260608T190000
DTEND;TZID=Europe/Amsterdam:20260608T210000
DTSTAMP:20260424T235537
CREATED:20260208T102053Z
LAST-MODIFIED:20260208T103423Z
UID:38704-1780945200-1780952400@www.erfgoedalkmaar.nl
SUMMARY:Steegjeswandeling met Historische Vereniging Alkmaar
DESCRIPTION:Steegjes\, liefst smal en met een bocht … als kind vonden we ze heel spannend. En je kon je er verstoppen. Sommige Alkmaarse stegen en nauwe straatjes zijn er al eeuwen. Ze ontsloten open ruimtes achter de grachten\, voor werkplaatsen of kleine huisjes. Ze hebben bijzondere namen – zoals Kromelleboogsteeg en Bontekoesteeg – of vertellen van vroege bedrijvigheid zoals Mosterdsteeg. Maar wist je dat deze laatste vroeger\, véél ‘spannender’\, de Wormbakkersteeg heette? \nWandel je mee? \n\nWe starten om 19.00 uur in het Victoriepark bij het beeld van Victorientje. \n\nKosten voor deelname? Alle themawandelingen van de Historische Vereniging zijn gratis en voor niets!\n\nDeze ‘kruipdoor-sluipdoor wandeling’ leid je naar bekende en meer verstopte plekjes\, en we vertellen de verhalen die erbij horen. De betekenis van de straat- en steegnamen is soms heel anders dan je dacht. In de vijftiende eeuw is de stad flink uitgebreid\, en in de wandeling gaan we terug naar een historie met veel activiteit en handel in het oostelijke deel van het centrum\, markten en een stadsgracht vol met beurtschepen. \nNiet bang voor straatjes van soms maar een meter breed? Nieuwsgierig naar de oorsprong van de naam en de mensen die hier vroeger geleefd en gewerkt hebben? \nDeze wandeling is samengesteld door:\nMarianne de Bie\, Rob Wagenaar en Jilbert van Goethem\, Gidsen Historische Vereniging Alkmaar
URL:https://www.erfgoedalkmaar.nl/evenement/steegjeswandeling-met-historische-vereniging-alkmaar/
LOCATION:Victorientje in het Victoriepark\, Victoriepad\, Alkmaar\, 1811 MS\, Nederland
CATEGORIES:Historische Vereniging Alkmaar
ATTACH;FMTTYPE=image/jpeg:https://www.erfgoedalkmaar.nl/wp-content/uploads/sites/3/2026/02/Steegjeswandeling-mosterdsteeg.jpeg
END:VEVENT
END:VCALENDAR