BEGIN:VCALENDAR
VERSION:2.0
PRODID:-//Erfgoed Alkmaar - ECPv5.16.4.1//NONSGML v1.0//EN
CALSCALE:GREGORIAN
METHOD:PUBLISH
X-WR-CALNAME:Erfgoed Alkmaar
X-ORIGINAL-URL:https://www.erfgoedalkmaar.nl
X-WR-CALDESC:Evenementen voor Erfgoed Alkmaar
BEGIN:VTIMEZONE
TZID:Europe/Amsterdam
BEGIN:DAYLIGHT
TZOFFSETFROM:+0100
TZOFFSETTO:+0200
TZNAME:CEST
DTSTART:20260329T010000
END:DAYLIGHT
BEGIN:STANDARD
TZOFFSETFROM:+0200
TZOFFSETTO:+0100
TZNAME:CET
DTSTART:20261025T010000
END:STANDARD
END:VTIMEZONE
BEGIN:VEVENT
DTSTART;TZID=Europe/Amsterdam:20260706T190000
DTEND;TZID=Europe/Amsterdam:20260706T210000
DTSTAMP:20260424T235553
CREATED:20260208T101346Z
LAST-MODIFIED:20260208T103524Z
UID:38697-1783364400-1783371600@www.erfgoedalkmaar.nl
SUMMARY:Wandeling historie en het ontstaan van de Spoorbuurt met Historische Vereniging Alkmaar
DESCRIPTION:Het huidige stationsgebouw van Alkmaar is gebouwd in 1864 en werd officieel geopend op 20 december 1865. Het gebouw is een zogenaamd “Waterstaatstation van de derde klasse”. Tussen station en singel bevond zich een weiland\, dat alras werd bebouwd tot de Spoorbuurt. \nWandel je mee? \n\nWe starten om 19.00 uur vanaf het parkeerterrein aan de voorzijde van het Murmellius Gymnasium Bergerhout 1.\n\nKosten voor deelname? Alle themawandelingen van de Historische Vereniging zijn gratis en voor niets!\n\nWe gaan wandelen in de Spoorbuurt waar we dieper ingaan op de historie en het ontstaan van de Spoorbuurt\, het station en de omliggende wijken. \nDe gidsen nemen je mee door een zeer interessant stukje Alkmaar waar meer over te vertellen is dan je in eerste instantie zou denken! Bijvoorbeeld: waarom staat het stationsgebouw daar waar het staat en hoe zit toch het met alle verdwenen tramlijntjes? \nWie weet bijvoorbeeld nog hoe het er uitzag achter het station voordat daar de nieuwe kantoorgebouwen kwamen. Allemaal vragen die onze gidsen kunnen beantwoorden inclusief de bijbehorende verhalen! \nDeze wandeling is samengesteld door:\nJan Nachbar en Johan Groot\, Gidsen Historische Vereniging Alkmaar
URL:https://www.erfgoedalkmaar.nl/evenement/wandeling-historie-en-het-ontstaan-van-de-spoorbuurt-met-historische-vereniging-alkmaar/
LOCATION:Murmellius Gymnasium\, Bergerhout 1\, Alkmaar\, 1815 DA\, Netherlands
CATEGORIES:Historische Vereniging Alkmaar
ATTACH;FMTTYPE=image/jpeg:https://www.erfgoedalkmaar.nl/wp-content/uploads/sites/3/2026/02/webfoto-Station-en-Spoorbuurt-1024x655-1.jpeg
END:VEVENT
END:VCALENDAR